BEGIN:VCALENDAR
VERSION:2.0
PRODID:-//hacksw/handcal//NONSGML v1.0//EN
CALSCALE:GREGORIAN
BEGIN:VEVENT
LOCATION:5a Allée du Carmel, 1354 Cents Luxembourg
DESCRIPTION:🎉 Portes ouvertes chez KidsCare Cents - Allée du Carmel ! 🎉Vous cherchez une crèche de confiance, chaleureuse et à l’écoute de votre enfant à Cents ?Venez découvrir notre univers lors de notre journée portes ouvertes !📍 Crèche KidsCare Cents - Allée du Carmel📅 06 juin de 17h à 19hRencontrez notre équipe, visitez les lieux et échangez autour de notre projet pédagogique.C’est le moment idéal pour poser vos questions et découvrir le futur lieu d'accueil de votre enfant.🎒 inscrivez-vous dès maintenant&nbsp;Venez vivre une expérience différente de l’accueil petite enfance. 💚 (https://www.kidscare.lu/en/evenements/portes-ouvertes-creche-kidscare-cents-allee-du-carmel)
DTSTART:2025-06-06T15:00:00
DTEND:2025-06-06T17:00:00
SUMMARY:PORTES OUVERTES - CRÈCHE KIDSCARE CENTS - ALLEE DU CARMEL
TITLE:PORTES OUVERTES - CRÈCHE KIDSCARE CENTS - ALLEE DU CARMEL
DTSTAMP:20260424T015614Z
UID:69eacdbe04e5e
END:VEVENT
END:VCALENDAR