BEGIN:VCALENDAR
VERSION:2.0
PRODID:-//hacksw/handcal//NONSGML v1.0//EN
CALSCALE:GREGORIAN
BEGIN:VEVENT
LOCATION:10 Circuit de La Foire Internationale, 1347 Kirchberg Luxembourg
DESCRIPTION:📢 [ALERTE] Babilou Family Luxembourg sera présent au Moovijob Day Luxembourg

Le vendredi 22 mars, de 09h30 à 17h00, ne manquez pas notre présence au Moovijob Day Luxembourg.
(&nbsp;10 Circuit de La Foire Internationale, 1347 Kirchberg Luxembourg&nbsp;&nbsp;) - Stand 96

Je m'inscris au Moovijob


Venez nous rencontrer pour échanger sur les différentes opportunités à pourvoir au sein de Babilou Family Luxembourg. ✨
&nbsp;
➡ Vous êtes éducateur (m/f) diplômé(e)
➡ Votre diplôme est reconnu au Luxembourg
➡ Vous souhaitez faire partie de notre grande famille
➡ Vous souhaitez acquérir la "Babilou Family touch" ❤️
&nbsp;
Alors, n'hésitez plus, et participez à cet événement ! 🤝
&nbsp;
Vous aurez l’occasion de :
🗣 Echanger avec Emilie KIEFFER et Morgane ZANGA
👋 Avoir une présentation de Babilou Family
🔎 Découvrir nos crèches et foyers de jour

Venez nombreux et parlez-en autour de vous ! 🗣 🌟
 (https://www.kidscare.lu/en/evenements/moovijob2024)
DTSTART:2024-03-22T08:30:00
DTEND:2024-03-22T16:00:00
SUMMARY:[ALERTE] Nous recrutons au Moovijob Day Luxembourg
TITLE:[ALERTE] Nous recrutons au Moovijob Day Luxembourg
DTSTAMP:20260424T034907Z
UID:69eae833a9512
END:VEVENT
END:VCALENDAR